BEGIN:VCALENDAR
VERSION:2.0
PRODID:-//wp-events-plugin.com//7.2.3.1//EN
TZID:America/New_York
X-WR-TIMEZONE:America/New_York
BEGIN:VEVENT
UID:1716@tysonsva.org
DTSTART;TZID=America/New_York:20260523T190000
DTEND;TZID=America/New_York:20260523T210000
DTSTAMP:20260115T151405Z
URL:https://tysonsva.org/events/zakir-khan-live/
SUMMARY:Zakir Khan Live
DESCRIPTION:This show will be performed in Hindi.\n\nZakir Khan is a renown
 ed Indian comedian\, writer\, and actor\, best known for his unique brand 
 of humour that blends observational comedy with a sharp insight into every
 day life\, particularly in Indian culture. Zakir’s rise to fame came wit
 h his victory in the 2012 Comedy Central India competition\, which set the
  stage for his career.\n\nZakir’s stand-up routines often draw from his 
 experiences growing up in a middle-class Indian household\, highlighting 
 the intricacies of relationships\, family dynamics\, and the struggles of 
 an average man in a humorous yet relatable way. His distinct storytelling
  style\, combined with his catchphrase “Sakht Launda” (which transla
 tes to "a tough guy")\, resonates strongly with audiences across India\,
  especially the youth.\n\nBeyond stand-up\, Zakir Khan has made a mark in 
 Indian digital entertainment. He is known for his work on the streaming pl
 atform Amazon Prime Video\, particularly for his popular stand-up special\
 , and his role in the Amazon Prime series as a mentor. Zakir has also vent
 ured into acting\, with appearances in several web series and shows that s
 howcase his versatile talents. His ability to blend humour with deep cultu
 ral references and his engaging\, conversational style have made him a fav
 ourite among fans. His down-to-earth persona and relatable comedy continue
  to win hearts\, making him one of the most influential figures in India
 ’s comedy scene.
ATTACH;FMTTYPE=image/jpeg:https://tysonsva.org/wp-content/uploads/2026/01/
 Screenshot-2026-01-15-at-10.11.17.png
CATEGORIES:Nightlife,Performing Arts
LOCATION:Capital One Hall\, 7750 Capital One Tower Rd\, Tysons\, VA\, 22102
 \, United States
GEO:38.925355;-77.211502
X-APPLE-STRUCTURED-LOCATION;VALUE=URI;X-ADDRESS=7750 Capital One Tower Rd\,
  Tysons\, VA\, 22102\, United States;X-APPLE-RADIUS=100;X-TITLE=Capital On
 e Hall:geo:38.925355,-77.211502
END:VEVENT
BEGIN:VTIMEZONE
TZID:America/New_York
X-LIC-LOCATION:America/New_York
BEGIN:DAYLIGHT
DTSTART:20260308T030000
TZOFFSETFROM:-0500
TZOFFSETTO:-0400
TZNAME:EDT
END:DAYLIGHT
END:VTIMEZONE
END:VCALENDAR