BEGIN:VCALENDAR
VERSION:2.0
PRODID:-//wp-events-plugin.com//7.2.3.1//EN
TZID:America/New_York
X-WR-TIMEZONE:America/New_York
BEGIN:VEVENT
UID:988@tysonsva.org
DTSTART;TZID=America/New_York:20251116T080000
DTEND;TZID=America/New_York:20251116T113000
DTSTAMP:20251106T102025Z
URL:https://tysonsva.org/events/tysons-rotary-5k-turkey-trot/
SUMMARY:Tysons Rotary 5K Turkey Trot
DESCRIPTION:\n\n\n\n\nThe Tysons Rotary 5K Turkey Trot Run/Walk raises fund
 s for local charities in the Tysons area and Northern Virginia. Since 1983
 \, the Tysons Rotary Club has strived to make a positive difference in the
  Tysons area by providing hands-on services and monetary contributions to 
 local charities. Our focus is on assisting children\, the aging\, and peop
 le in crisis.\n\nGlobally\, we have participated in over 38 water and sani
 tation projects in schools in Zambia\, Uganda\, and Honduras. We have cont
 ributed to Rotary International’s goal of eradicating polio.\n\nBy signi
 ng up for the Turkey Trot\, you can show your support for the Tysons commu
 nity as we work to enhance the lives of so many.\n\nRace will start at 8:0
 0 am on Sunday\, November 16\, 2025\n\nRace Location: \nTysons Central Pa
 rk\n1775 Tysons Blvd\nTysons\, VA\n\nRegistration Fees:\n5K:  $45 through
  November 15\n$50 on Race Day\, November 16\n1 Mile Fun Run: $30 through N
 ovember 15\n$35 on Race Day\, November 16\n\nT-Shirt Deadline:\nTo be guar
 anteed an Official Tysons Turkey Trot shirt\, please be sure to register b
 y November 1\, 2025. After that date\, shirts will be available on race da
 y on a first come first served basis\, while supplies last.\n\nPacket Pick
  Up:\nSaturday\, November 15 from 12:00-3:00 pm at the =PR= Run &amp\; Wal
 k Vienna store\, located at 111 Maple Ave\, Vienna\, VA 22180.\nSunday\, N
 ovember 16 (race day) starting at 7:00 am at the race site: Tysons Central
  Park\, 1775 Tysons Blvd.\, Tysons\, VA 22102\n\nAwards:\na. Top 3 Male\, 
 Top 3 Female: 1st $200/2nd $100/3rd $50\nb. Top 3 12 &amp\; Under Finisher
 s receive gift cards\nc. Random drawing for participants: 3 Frozen Turkeys
  will be given out\n\nParking: \nFree parking garage available - Enter fr
 om Westpark Drive\nLimited Off-Street parking available - Enter from Galle
 ria Drive\n\nSome of the organizations we have supported over the last yea
 r are listed below:\n\nBrigade of Mercy\nFalls Church-McLean Children’s 
 Center\nFirefighters and Friends to the Rescue\nHopeLink Health Services\n
 Insight Memory Care\nPimmit Hills Senior Center\nFoundation for Fighting B
 lindness\nSecond Story\nStroke Comeback Center\n\nBy signing up for the Tu
 rkey Trot\, you can show your support for the Tysons community as we work 
 to enhance the lives of so many.\n\n\n\n\n\n\n
ATTACH;FMTTYPE=image/jpeg:https://tysonsva.org/wp-content/uploads/2025/09/
 trot.jpg
CATEGORIES:Explore Tysons,Sports &amp; Active Life
LOCATION:Tysons Central Park\, 1775 Tysons Blvd\, Tysons\, VA\, 22182\, Uni
 ted States
X-APPLE-STRUCTURED-LOCATION;VALUE=URI;X-ADDRESS=1775 Tysons Blvd\, Tysons\,
  VA\, 22182\, United States;X-APPLE-RADIUS=100;X-TITLE=Tysons Central Park
 :geo:0,0
END:VEVENT
BEGIN:VTIMEZONE
TZID:America/New_York
X-LIC-LOCATION:America/New_York
BEGIN:STANDARD
DTSTART:20251102T010000
TZOFFSETFROM:-0400
TZOFFSETTO:-0500
TZNAME:EST
END:STANDARD
END:VTIMEZONE
END:VCALENDAR