BEGIN:VCALENDAR
VERSION:2.0
PRODID:-//wp-events-plugin.com//7.2.3.1//EN
TZID:America/New_York
X-WR-TIMEZONE:America/New_York
BEGIN:VEVENT
UID:785@tysonsva.org
DTSTART;TZID=America/New_York:20250919T000000
DTEND;TZID=America/New_York:20250921T000000
DTSTAMP:20250712T160347Z
URL:https://tysonsva.org/events/the-addams-family-a-musical-comedy/
SUMMARY:The Addams Family - A Musical Comedy
DESCRIPTION:Wednesday Addams\, the ultimate princess of darkness\, has grow
 n up and fallen in love with a sweet\, smart young man from a respectable 
 family. A man her parents have never met. And if that weren't upsetting en
 ough\, she confides in her father and begs him not to tell her mother. Now
 \, Gomez Addams must do something he's never done before - keep a secret f
 rom his beloved wife\, Morticia. Everything will change for the whole fami
 ly on the fateful night they host a dinner for Wednesday's "normal" boyfri
 end and his parents
ATTACH;FMTTYPE=image/jpeg:https://tysonsva.org/wp-content/uploads/2025/04/
 Adams.png
CATEGORIES:Performing Arts
END:VEVENT
BEGIN:VTIMEZONE
TZID:America/New_York
X-LIC-LOCATION:America/New_York
BEGIN:DAYLIGHT
DTSTART:20250309T030000
TZOFFSETFROM:-0500
TZOFFSETTO:-0400
TZNAME:EDT
END:DAYLIGHT
END:VTIMEZONE
END:VCALENDAR