BEGIN:VCALENDAR
VERSION:2.0
PRODID:-//wp-events-plugin.com//7.2.3.1//EN
TZID:America/New_York
X-WR-TIMEZONE:America/New_York
BEGIN:VEVENT
UID:2494@tysonsva.org
DTSTART;TZID=America/New_York:20260423T111500
DTEND;TZID=America/New_York:20260423T130000
DTSTAMP:20260403T150153Z
URL:https://tysonsva.org/events/shear-strength-selection-for-static-slope-
 stability-analyses/
SUMMARY:Shear Strength Selection for Static Slope Stability Analyses
DESCRIPTION:\n\n\nJoin ASCE NCS Geo-Institute Meeting on April 23\, 2026 fo
 r our next lunch and learn event!\n\n\n\n\n\n\nWelcome to the Shear Streng
 th Selection for Static Slope Stability Analyses event! Join us on Thu. Ap
 r. 23\, 2026 at 11:15 AM at Wildfire Steaks\, Chops &amp\; Seafood in Tyso
 ns to learn about recent research on drained shear strengths for slope sta
 bility analyses. Don't miss out on this opportunity to network with indust
 ry professionals and experts in the field. See you there!\n\nPlease email 
 Joe Novak at jnovak@icopgroup.com if you have any dietary restrictions by 
 April 10\, 2026 (Friday).\n\n\n
ATTACH;FMTTYPE=image/jpeg:https://tysonsva.org/wp-content/uploads/2026/04/
 istockphoto-1164205955-612x612-1.jpg
CATEGORIES:Conferences,Networking,Workshop
LOCATION:Wildfire Steaks Chops Seafood\, 2001 International Drive\, Tysons\
 , VA\, 22102\, United States
X-APPLE-STRUCTURED-LOCATION;VALUE=URI;X-ADDRESS=2001 International Drive\, 
 Tysons\, VA\, 22102\, United States;X-APPLE-RADIUS=100;X-TITLE=Wildfire St
 eaks Chops Seafood:geo:0,0
END:VEVENT
BEGIN:VTIMEZONE
TZID:America/New_York
X-LIC-LOCATION:America/New_York
BEGIN:DAYLIGHT
DTSTART:20260308T030000
TZOFFSETFROM:-0500
TZOFFSETTO:-0400
TZNAME:EDT
END:DAYLIGHT
END:VTIMEZONE
END:VCALENDAR