BEGIN:VCALENDAR
VERSION:2.0
PRODID:-//wp-events-plugin.com//7.2.3.1//EN
TZID:America/New_York
X-WR-TIMEZONE:America/New_York
BEGIN:VEVENT
UID:1749@tysonsva.org
DTSTART;TZID=America/New_York:20260218T120000
DTEND;TZID=America/New_York:20260218T130000
DTSTAMP:20260202T185710Z
URL:https://tysonsva.org/events/finding-your-way-in-tysons-a-wayfinding-lu
 nch-learn/
SUMMARY:Finding Your Way in Tysons: A Wayfinding Lunch & Learn
DESCRIPTION:Wayfinding plays a critical role in how people experience\, nav
 igate\, and connect with Tysons. Join Tysons Community Alliance (TCA) for 
 a one-hour Lunch &amp\; Learn webinar exploring the wayfinding signage pro
 jects we’ve implemented\, designed\, and are actively advancing across t
 he district. \n\n During this session\, TCA will walk through a range of
  wayfinding initiatives\, including: \n\n 	Trail Wayfinding Signs - with 
 nine signs installed on the ground in June 2025\, and additional phases un
 derway \n\n\n 	3D Structural Tysons District Brand Signs - two design opt
 ions developed and currently being coordinated with developers for install
 ation \n\n\n 	Metro Wayfinding Obelisks - large-scale wayfinding signs at
  Metro stations designed to help users orient themselves and navigate key 
 destinations\, now in the design and permitting phase \n\n\n 	Water Tower
  Tysons District Sign - an upcoming logo update this year\, with a larger\
 , long-term transformation planned over the next 5 to 7 years \n\nThe pre
 sentation will highlight project goals\, design considerations\, partnersh
 ips\, and lessons learned\, followed by a moderated Q&amp\;A discussion. 
 \n\nWhether you’re interested in urban design\, mobility\, branding\, or
  placemaking\, this session offers a behind-the-scenes look at how wayfind
 ing helps shape a more connected Tysons. \n\n \n\nFormat: Lunch &amp\; L
 earn (1 hour) 
ATTACH;FMTTYPE=image/jpeg:https://tysonsva.org/wp-content/uploads/2026/01/
 Wayfinding-Thumbnail.png
CATEGORIES:Online,TCA Event,Workshop
LOCATION:https://www.eventbrite.com/e/finding-your-way-in-tysons-a-wayfindi
 ng-lunch-learn-webinar-event-tickets-1981359196694?aff=oddtdtcreator
END:VEVENT
BEGIN:VTIMEZONE
TZID:America/New_York
X-LIC-LOCATION:America/New_York
BEGIN:STANDARD
DTSTART:20251102T010000
TZOFFSETFROM:-0400
TZOFFSETTO:-0500
TZNAME:EST
END:STANDARD
END:VTIMEZONE
END:VCALENDAR