BEGIN:VCALENDAR
VERSION:2.0
PRODID:-//wp-events-plugin.com//7.2.3.1//EN
TZID:America/New_York
X-WR-TIMEZONE:America/New_York
BEGIN:VEVENT
UID:1646@tysonsva.org
DTSTART;TZID=America/New_York:20260218T100000
DTEND;TZID=America/New_York:20260218T150000
DTSTAMP:20260106T194942Z
URL:https://tysonsva.org/events/february-american-red-cross-blood-drive/
SUMMARY:February American Red Cross Blood Drive
DESCRIPTION:The Boro is partnering with American Red Cross to host a blood 
 drive. Help save a life and reserve your spot!
ATTACH;FMTTYPE=image/jpeg:https://tysonsva.org/wp-content/uploads/2025/01/
 redcross-2.png
CATEGORIES:Community Service,Other
LOCATION:The Boro Station\, 1775 Greensboro Station Place\, Tysons\, VA\, 2
 2102\, United States
X-APPLE-STRUCTURED-LOCATION;VALUE=URI;X-ADDRESS=1775 Greensboro Station Pla
 ce\, Tysons\, VA\, 22102\, United States;X-APPLE-RADIUS=100;X-TITLE=The Bo
 ro Station:geo:0,0
END:VEVENT
BEGIN:VTIMEZONE
TZID:America/New_York
X-LIC-LOCATION:America/New_York
BEGIN:STANDARD
DTSTART:20251102T010000
TZOFFSETFROM:-0400
TZOFFSETTO:-0500
TZNAME:EST
END:STANDARD
END:VTIMEZONE
END:VCALENDAR