BEGIN:VCALENDAR
VERSION:2.0
PRODID:-//wp-events-plugin.com//7.2.3.1//EN
TZID:America/New_York
X-WR-TIMEZONE:America/New_York
BEGIN:VEVENT
UID:1085@tysonsva.org
DTSTART;TZID=America/New_York:20251012T120000
DTEND;TZID=America/New_York:20251012T180000
DTSTAMP:20251009T154935Z
URL:https://tysonsva.org/events/fall-festival/
SUMMARY:Fall Festival
DESCRIPTION:Join us on October 12th for our family-friendly fall festival f
 rom 12-6 pm!\n\nEvent highlights:\n\nPumpkin painting\n\nDonut on a string
 \n\nPumpkin bowling\n\nS'mores and storytime at the firepit\n\nCornhole\, 
 sack race\, tug-o-war
ATTACH;FMTTYPE=image/jpeg:https://tysonsva.org/wp-content/uploads/2025/10/
 Screenshot-2025-10-09-at-11.48.33.png
CATEGORIES:Festivals &amp; Fairs,Food &amp; Drink,Kids &amp; Family
END:VEVENT
BEGIN:VTIMEZONE
TZID:America/New_York
X-LIC-LOCATION:America/New_York
BEGIN:DAYLIGHT
DTSTART:20250309T030000
TZOFFSETFROM:-0500
TZOFFSETTO:-0400
TZNAME:EDT
END:DAYLIGHT
END:VTIMEZONE
END:VCALENDAR